BEGIN:VCALENDAR
VERSION:2.0
PRODID:-//Nepali Calendar//EN
BEGIN:VEVENT
UID:a94d4c265b802af71d644de811a0310f@nepalicalendar.com
DTSTAMP:20260421T231958Z
DTSTART;VALUE=DATE:20250620
DTEND;VALUE=DATE:20250621
SUMMARY:विश्व शरणार्थी दिवस
DESCRIPTION:विश्व शरणार्थी दिवस
END:VEVENT
END:VCALENDAR