BEGIN:VCALENDAR
VERSION:2.0
PRODID:-//Nepali Calendar//EN
BEGIN:VEVENT
UID:1ed8b745d395e9d214ecdbdccf8eded0@nepalicalendar.com
DTSTAMP:20260422T023114Z
DTSTART;VALUE=DATE:20250414
DTEND;VALUE=DATE:20250415
SUMMARY:बिस्का: जात्रा
DESCRIPTION:बिस्का: जात्रा
END:VEVENT
END:VCALENDAR