BEGIN:VCALENDAR
VERSION:2.0
PRODID:-//Nepali Calendar//EN
BEGIN:VEVENT
UID:786d6b9e0b5975fbf9ee1e35ae2b5b12@nepalicalendar.com
DTSTAMP:20260422T155225Z
DTSTART;VALUE=DATE:20240910
DTEND;VALUE=DATE:20240911
SUMMARY:विश्व आत्महत्या रोकथाम दिवस
DESCRIPTION:विश्व आत्महत्या रोकथाम दिवस
END:VEVENT
END:VCALENDAR