BEGIN:VCALENDAR
VERSION:2.0
PRODID:-//Nepali Calendar//EN
BEGIN:VEVENT
UID:4826a5a178492450dded49bccb1215b8@nepalicalendar.com
DTSTAMP:20260422T154927Z
DTSTART;VALUE=DATE:20240910
DTEND;VALUE=DATE:20240911
SUMMARY:महालक्ष्मी व्रतआरम्भ
DESCRIPTION:महालक्ष्मी व्रतआरम्भ
END:VEVENT
END:VCALENDAR