BEGIN:VCALENDAR
VERSION:2.0
PRODID:-//Nepali Calendar//EN
BEGIN:VEVENT
UID:1823cd05f78e6d6eb1a0d8e02d6cf5f3@nepalicalendar.com
DTSTAMP:20260422T155124Z
DTSTART;VALUE=DATE:20240909
DTEND;VALUE=DATE:20240910
SUMMARY:सूर्य षष्ठी
DESCRIPTION:सूर्य षष्ठी
END:VEVENT
END:VCALENDAR