BEGIN:VCALENDAR
VERSION:2.0
PRODID:-//Nepali Calendar//EN
BEGIN:VEVENT
UID:cbf00c2fb788ce31629a3ff3f6cf4507@nepalicalendar.com
DTSTAMP:20260422T154920Z
DTSTART;VALUE=DATE:20240908
DTEND;VALUE=DATE:20240909
SUMMARY:विश्व फिजियोथेरापी दिवस
DESCRIPTION:विश्व फिजियोथेरापी दिवस
END:VEVENT
END:VCALENDAR