BEGIN:VCALENDAR
VERSION:2.0
PRODID:-//Nepali Calendar//EN
BEGIN:VEVENT
UID:5fbc621e552d16cca83473adfc4bd59b@nepalicalendar.com
DTSTAMP:20260422T155418Z
DTSTART;VALUE=DATE:20240908
DTEND;VALUE=DATE:20240909
SUMMARY:अन्तर्राष्ट्रिय साक्षरता दिवस
DESCRIPTION:अन्तर्राष्ट्रिय साक्षरता दिवस
END:VEVENT
END:VCALENDAR