BEGIN:VCALENDAR
VERSION:2.0
PRODID:-//Nepali Calendar//EN
BEGIN:VEVENT
UID:81d6045be6d120e4f8000e30c121ffcc@nepalicalendar.com
DTSTAMP:20260422T155418Z
DTSTART;VALUE=DATE:20240908
DTEND;VALUE=DATE:20240909
SUMMARY:ऋषिपञ्चमी व्रत
DESCRIPTION:ऋषिपञ्चमी व्रत
END:VEVENT
END:VCALENDAR