BEGIN:VCALENDAR
VERSION:2.0
PRODID:-//Nepali Calendar//EN
BEGIN:VEVENT
UID:0353f9e0c7f4db182c09db3b70c3f445@nepalicalendar.com
DTSTAMP:20260422T155047Z
DTSTART;VALUE=DATE:20240907
DTEND;VALUE=DATE:20240908
SUMMARY:राष्ट्रिय धर्मसभा दिवस
DESCRIPTION:राष्ट्रिय धर्मसभा दिवस
END:VEVENT
END:VCALENDAR