BEGIN:VCALENDAR
VERSION:2.0
PRODID:-//Nepali Calendar//EN
BEGIN:VEVENT
UID:3a706037f699a15a4a77ad4c98b8e802@nepalicalendar.com
DTSTAMP:20260422T154736Z
DTSTART;VALUE=DATE:20240907
DTEND;VALUE=DATE:20240908
SUMMARY:निजामती सेवा दिवस
DESCRIPTION:निजामती सेवा दिवस
END:VEVENT
END:VCALENDAR