BEGIN:VCALENDAR
VERSION:2.0
PRODID:-//Nepali Calendar//EN
BEGIN:VEVENT
UID:52887866187cd22ff222addfe3f6233d@nepalicalendar.com
DTSTAMP:20260422T154954Z
DTSTART;VALUE=DATE:20240907
DTEND;VALUE=DATE:20240908
SUMMARY:गणेश चतुर्थी
DESCRIPTION:गणेश चतुर्थी
END:VEVENT
END:VCALENDAR