BEGIN:VCALENDAR
VERSION:2.0
PRODID:-//Nepali Calendar//EN
BEGIN:VEVENT
UID:a77e6465030c9d7a7fc4640882641ef0@nepalicalendar.com
DTSTAMP:20260422T155312Z
DTSTART;VALUE=DATE:20240906
DTEND;VALUE=DATE:20240907
SUMMARY:हरितालिका तीज (महिला कर्मचारीहरूलाई मात्र)
DESCRIPTION:हरितालिका तीज (महिला कर्मचारीहरूलाई मात्र)
END:VEVENT
END:VCALENDAR