BEGIN:VCALENDAR
VERSION:2.0
PRODID:-//Nepali Calendar//EN
BEGIN:VEVENT
UID:38a1e70401a000d634e9d645b734dc88@nepalicalendar.com
DTSTAMP:20260421T231513Z
DTSTART;VALUE=DATE:20250619
DTEND;VALUE=DATE:20250620
SUMMARY:द्वन्द्वमा यौन हिंसा उन्मूलनको लागि अन्तर्राष्ट्रिय दिवस
DESCRIPTION:द्वन्द्वमा यौन हिंसा उन्मूलनको लागि अन्तर्राष्ट्रिय दिवस
END:VEVENT
END:VCALENDAR