BEGIN:VCALENDAR
VERSION:2.0
PRODID:-//Nepali Calendar//EN
BEGIN:VEVENT
UID:ef58f22a6351fbb2bdbd3b1843f8d011@nepalicalendar.com
DTSTAMP:20260422T155353Z
DTSTART;VALUE=DATE:20240905
DTEND;VALUE=DATE:20240906
SUMMARY:मानव बेचबिखन विरुद्ध राष्ट्रिय दिवस
DESCRIPTION:मानव बेचबिखन विरुद्ध राष्ट्रिय दिवस
END:VEVENT
END:VCALENDAR