BEGIN:VCALENDAR
VERSION:2.0
PRODID:-//Nepali Calendar//EN
BEGIN:VEVENT
UID:c6fd54709899ae79c70c12f84385321c@nepalicalendar.com
DTSTAMP:20260422T155124Z
DTSTART;VALUE=DATE:20240905
DTEND;VALUE=DATE:20240906
SUMMARY:दर खाने दिन
DESCRIPTION:दर खाने दिन
END:VEVENT
END:VCALENDAR