BEGIN:VCALENDAR
VERSION:2.0
PRODID:-//Nepali Calendar//EN
BEGIN:VEVENT
UID:ef84c7b5e141d7634df3536cd97d064f@nepalicalendar.com
DTSTAMP:20260422T155046Z
DTSTART;VALUE=DATE:20240904
DTEND;VALUE=DATE:20240905
SUMMARY:गुंला पर्व समाप्ति
DESCRIPTION:गुंला पर्व समाप्ति
END:VEVENT
END:VCALENDAR