BEGIN:VCALENDAR
VERSION:2.0
PRODID:-//Nepali Calendar//EN
BEGIN:VEVENT
UID:27b6b96b92f5899c1c494090cfe03fbd@nepalicalendar.com
DTSTAMP:20260422T173447Z
DTSTART;VALUE=DATE:20240902
DTEND;VALUE=DATE:20240903
SUMMARY:सोमबारे औंसी
DESCRIPTION:सोमबारे औंसी
END:VEVENT
END:VCALENDAR