BEGIN:VCALENDAR
VERSION:2.0
PRODID:-//Nepali Calendar//EN
BEGIN:VEVENT
UID:39cb5ec47022b87411ae5711e76ad5bc@nepalicalendar.com
DTSTAMP:20260422T155219Z
DTSTART;VALUE=DATE:20240902
DTEND;VALUE=DATE:20240903
SUMMARY:मोतीराम भट्ट जन्मजयन्ती
DESCRIPTION:मोतीराम भट्ट जन्मजयन्ती
END:VEVENT
END:VCALENDAR