BEGIN:VCALENDAR
VERSION:2.0
PRODID:-//Nepali Calendar//EN
BEGIN:VEVENT
UID:2871c0c5e60072456a938fc566beb5f8@nepalicalendar.com
DTSTAMP:20260422T155219Z
DTSTART;VALUE=DATE:20240902
DTEND;VALUE=DATE:20240903
SUMMARY:कुशे औंसी
DESCRIPTION:कुशे औंसी
END:VEVENT
END:VCALENDAR