BEGIN:VCALENDAR
VERSION:2.0
PRODID:-//Nepali Calendar//EN
BEGIN:VEVENT
UID:120e02ce646b9011b9a993a779a65962@nepalicalendar.com
DTSTAMP:20260422T155124Z
DTSTART;VALUE=DATE:20240902
DTEND;VALUE=DATE:20240903
SUMMARY:बुबाको मुख हेर्ने दिन
DESCRIPTION:बुबाको मुख हेर्ने दिन
END:VEVENT
END:VCALENDAR