BEGIN:VCALENDAR
VERSION:2.0
PRODID:-//Nepali Calendar//EN
BEGIN:VEVENT
UID:9a3124bc6845c1c42df0271bbdbf1fb3@nepalicalendar.com
DTSTAMP:20260422T154801Z
DTSTART;VALUE=DATE:20240830
DTEND;VALUE=DATE:20240831
SUMMARY:विश्व बेपत्ता विरुद्धको दिवस
DESCRIPTION:विश्व बेपत्ता विरुद्धको दिवस
END:VEVENT
END:VCALENDAR