BEGIN:VCALENDAR
VERSION:2.0
PRODID:-//Nepali Calendar//EN
BEGIN:VEVENT
UID:cd4ce177337b7c3995eeb8f5444de376@nepalicalendar.com
DTSTAMP:20260422T154735Z
DTSTART;VALUE=DATE:20240830
DTEND;VALUE=DATE:20240831
SUMMARY:वैश्णवहरूको अजा एकादशी व्रत
DESCRIPTION:वैश्णवहरूको अजा एकादशी व्रत
END:VEVENT
END:VCALENDAR