BEGIN:VCALENDAR
VERSION:2.0
PRODID:-//Nepali Calendar//EN
BEGIN:VEVENT
UID:434b8d8813337916308f7b9d4f169efa@nepalicalendar.com
DTSTAMP:20260421T231533Z
DTSTART;VALUE=DATE:20250618
DTEND;VALUE=DATE:20250619
SUMMARY:गोरखकाली पूजा
DESCRIPTION:गोरखकाली पूजा
END:VEVENT
END:VCALENDAR