BEGIN:VCALENDAR
VERSION:2.0
PRODID:-//Nepali Calendar//EN
BEGIN:VEVENT
UID:87a2924a1f471b2ad8d0aa45bc40601b@nepalicalendar.com
DTSTAMP:20260422T155113Z
DTSTART;VALUE=DATE:20240829
DTEND;VALUE=DATE:20240830
SUMMARY:विश्व आणविक परिक्षण विरुद्धको दिवस
DESCRIPTION:विश्व आणविक परिक्षण विरुद्धको दिवस
END:VEVENT
END:VCALENDAR