BEGIN:VCALENDAR
VERSION:2.0
PRODID:-//Nepali Calendar//EN
BEGIN:VEVENT
UID:6ca70bc04b9d19cc09087a98181d7f6a@nepalicalendar.com
DTSTAMP:20260422T154802Z
DTSTART;VALUE=DATE:20240829
DTEND;VALUE=DATE:20240830
SUMMARY:स्मार्तहरूको अजा एकादशी व्रत
DESCRIPTION:स्मार्तहरूको अजा एकादशी व्रत
END:VEVENT
END:VCALENDAR