BEGIN:VCALENDAR
VERSION:2.0
PRODID:-//Nepali Calendar//EN
BEGIN:VEVENT
UID:9598bd49c196c0dcfc7c4ab2701548d8@nepalicalendar.com
DTSTAMP:20260422T154955Z
DTSTART;VALUE=DATE:20240826
DTEND;VALUE=DATE:20240827
SUMMARY:गोरखकाली पूजा
DESCRIPTION:गोरखकाली पूजा
END:VEVENT
END:VCALENDAR