BEGIN:VCALENDAR
VERSION:2.0
PRODID:-//Nepali Calendar//EN
BEGIN:VEVENT
UID:a81030b21c4919c137cc5394884154b7@nepalicalendar.com
DTSTAMP:20260422T154920Z
DTSTART;VALUE=DATE:20240826
DTEND;VALUE=DATE:20240827
SUMMARY:गाैरा पर्व (सम्बन्धित समुदायलाई मात्र)
DESCRIPTION:गाैरा पर्व (सम्बन्धित समुदायलाई मात्र)
END:VEVENT
END:VCALENDAR