BEGIN:VCALENDAR
VERSION:2.0
PRODID:-//Nepali Calendar//EN
BEGIN:VEVENT
UID:5577e871efde5baead6abad017936332@nepalicalendar.com
DTSTAMP:20260422T154928Z
DTSTART;VALUE=DATE:20240826
DTEND;VALUE=DATE:20240827
SUMMARY:श्रीकृष्ण जन्माष्टमी
DESCRIPTION:श्रीकृष्ण जन्माष्टमी
END:VEVENT
END:VCALENDAR