BEGIN:VCALENDAR
VERSION:2.0
PRODID:-//Nepali Calendar//EN
BEGIN:VEVENT
UID:6abfeb26be8d01f0a1ce19349f35a37e@nepalicalendar.com
DTSTAMP:20260422T155218Z
DTSTART;VALUE=DATE:20240825
DTEND;VALUE=DATE:20240826
SUMMARY:गौरा सप्तमी
DESCRIPTION:गौरा सप्तमी
END:VEVENT
END:VCALENDAR