BEGIN:VCALENDAR
VERSION:2.0
PRODID:-//Nepali Calendar//EN
BEGIN:VEVENT
UID:c9e98a589b9413ee1c859bbbe3a846d9@nepalicalendar.com
DTSTAMP:20260422T155023Z
DTSTART;VALUE=DATE:20240825
DTEND;VALUE=DATE:20240826
SUMMARY:राष्ट्रिय धर्मसभा दिवस
DESCRIPTION:राष्ट्रिय धर्मसभा दिवस
END:VEVENT
END:VCALENDAR