BEGIN:VCALENDAR
VERSION:2.0
PRODID:-//Nepali Calendar//EN
BEGIN:VEVENT
UID:7475354dc91ed482a70bfa2d0eadc6c3@nepalicalendar.com
DTSTAMP:20260422T154740Z
DTSTART;VALUE=DATE:20240821
DTEND;VALUE=DATE:20240822
SUMMARY:रोपाईं जात्रा
DESCRIPTION:रोपाईं जात्रा
END:VEVENT
END:VCALENDAR