BEGIN:VCALENDAR
VERSION:2.0
PRODID:-//Nepali Calendar//EN
BEGIN:VEVENT
UID:e61f781f0cdd1dbb1271351adb2da3f7@nepalicalendar.com
DTSTAMP:20260422T154735Z
DTSTART;VALUE=DATE:20240820
DTEND;VALUE=DATE:20240821
SUMMARY:गाईजात्रा (नेवा समुदायलाई मात्र)
DESCRIPTION:गाईजात्रा (नेवा समुदायलाई मात्र)
END:VEVENT
END:VCALENDAR