BEGIN:VCALENDAR
VERSION:2.0
PRODID:-//Nepali Calendar//EN
BEGIN:VEVENT
UID:016938eb95e75f9175139d2800eb7945@nepalicalendar.com
DTSTAMP:20260422T173156Z
DTSTART;VALUE=DATE:20240819
DTEND;VALUE=DATE:20240820
SUMMARY:विश्व फोटोग्राफी दिवस
DESCRIPTION:विश्व फोटोग्राफी दिवस
END:VEVENT
END:VCALENDAR