BEGIN:VCALENDAR
VERSION:2.0
PRODID:-//Nepali Calendar//EN
BEGIN:VEVENT
UID:09a03eda10cb88319af59e6b43029fc2@nepalicalendar.com
DTSTAMP:20260421T231651Z
DTSTART;VALUE=DATE:20250617
DTEND;VALUE=DATE:20250618
SUMMARY:विश्व खडेरी विरुद्ध संघर्ष दिवस
DESCRIPTION:विश्व खडेरी विरुद्ध संघर्ष दिवस
END:VEVENT
END:VCALENDAR