BEGIN:VCALENDAR
VERSION:2.0
PRODID:-//Nepali Calendar//EN
BEGIN:VEVENT
UID:015edcba93d4a8e5516ec9971f607b20@nepalicalendar.com
DTSTAMP:20260422T173612Z
DTSTART;VALUE=DATE:20240819
DTEND;VALUE=DATE:20240820
SUMMARY:संस्कृत दिवस
DESCRIPTION:संस्कृत दिवस
END:VEVENT
END:VCALENDAR