BEGIN:VCALENDAR
VERSION:2.0
PRODID:-//Nepali Calendar//EN
BEGIN:VEVENT
UID:2a95b3d9dfdefa9279d5fc67949caa0b@nepalicalendar.com
DTSTAMP:20260422T173607Z
DTSTART;VALUE=DATE:20240819
DTEND;VALUE=DATE:20240820
SUMMARY:ऋषितर्पणी
DESCRIPTION:ऋषितर्पणी
END:VEVENT
END:VCALENDAR