BEGIN:VCALENDAR
VERSION:2.0
PRODID:-//Nepali Calendar//EN
BEGIN:VEVENT
UID:2ea3c3b4b85dd7755172695c234374b5@nepalicalendar.com
DTSTAMP:20260422T154740Z
DTSTART;VALUE=DATE:20240819
DTEND;VALUE=DATE:20240820
SUMMARY:क्वाति खाने दिन
DESCRIPTION:क्वाति खाने दिन
END:VEVENT
END:VCALENDAR