BEGIN:VCALENDAR
VERSION:2.0
PRODID:-//Nepali Calendar//EN
BEGIN:VEVENT
UID:8f4ad221a66d8ec845d6c3a701947e66@nepalicalendar.com
DTSTAMP:20260422T155046Z
DTSTART;VALUE=DATE:20240819
DTEND;VALUE=DATE:20240820
SUMMARY:रक्षा बन्धन
DESCRIPTION:रक्षा बन्धन
END:VEVENT
END:VCALENDAR