BEGIN:VCALENDAR
VERSION:2.0
PRODID:-//Nepali Calendar//EN
BEGIN:VEVENT
UID:f56369a0a7467ae43df22417ba225e4d@nepalicalendar.com
DTSTAMP:20260422T154910Z
DTSTART;VALUE=DATE:20240819
DTEND;VALUE=DATE:20240820
SUMMARY:जनै पूर्णिमा
DESCRIPTION:जनै पूर्णिमा
END:VEVENT
END:VCALENDAR