BEGIN:VCALENDAR
VERSION:2.0
PRODID:-//Nepali Calendar//EN
BEGIN:VEVENT
UID:7aecf546e17d318f8af7c78ab02ee62f@nepalicalendar.com
DTSTAMP:20260422T155022Z
DTSTART;VALUE=DATE:20240817
DTEND;VALUE=DATE:20240818
SUMMARY:शनि प्रदोष व्रत
DESCRIPTION:शनि प्रदोष व्रत
END:VEVENT
END:VCALENDAR