BEGIN:VCALENDAR
VERSION:2.0
PRODID:-//Nepali Calendar//EN
BEGIN:VEVENT
UID:155cc220a2fc525eacf5954b20ad12de@nepalicalendar.com
DTSTAMP:20260422T154909Z
DTSTART;VALUE=DATE:20240817
DTEND;VALUE=DATE:20240818
SUMMARY:सिंह संक्रान्ति
DESCRIPTION:सिंह संक्रान्ति
END:VEVENT
END:VCALENDAR