BEGIN:VCALENDAR
VERSION:2.0
PRODID:-//Nepali Calendar//EN
BEGIN:VEVENT
UID:2275ac32a7931ed94223f82f99945c07@nepalicalendar.com
DTSTAMP:20260422T173135Z
DTSTART;VALUE=DATE:20240816
DTEND;VALUE=DATE:20240817
SUMMARY:पुत्रदा एकादशी व्रत
DESCRIPTION:पुत्रदा एकादशी व्रत
END:VEVENT
END:VCALENDAR