BEGIN:VCALENDAR
VERSION:2.0
PRODID:-//Nepali Calendar//EN
BEGIN:VEVENT
UID:c27408d2c5b535f240948516444de244@nepalicalendar.com
DTSTAMP:20260422T173508Z
DTSTART;VALUE=DATE:20240814
DTEND;VALUE=DATE:20240815
SUMMARY:विश्व सुलेखन दिवस
DESCRIPTION:विश्व सुलेखन दिवस
END:VEVENT
END:VCALENDAR