BEGIN:VCALENDAR
VERSION:2.0
PRODID:-//Nepali Calendar//EN
BEGIN:VEVENT
UID:a48bbfc86a9a227b75ca4448a48ca376@nepalicalendar.com
DTSTAMP:20260421T231631Z
DTSTART;VALUE=DATE:20250616
DTEND;VALUE=DATE:20250617
SUMMARY:अन्तर्राष्ट्रिय परिवार रेमिटेयान्स दिवस
DESCRIPTION:अन्तर्राष्ट्रिय परिवार रेमिटेयान्स दिवस
END:VEVENT
END:VCALENDAR