BEGIN:VCALENDAR
VERSION:2.0
PRODID:-//Nepali Calendar//EN
BEGIN:VEVENT
UID:377cd15e4bd89d2d0e398674c79b47f6@nepalicalendar.com
DTSTAMP:20260422T173252Z
DTSTART;VALUE=DATE:20240812
DTEND;VALUE=DATE:20240813
SUMMARY:गोरखकाली पूजा
DESCRIPTION:गोरखकाली पूजा
END:VEVENT
END:VCALENDAR