BEGIN:VCALENDAR
VERSION:2.0
PRODID:-//Nepali Calendar//EN
BEGIN:VEVENT
UID:d0d3d40b2d726351c1682b8850282e53@nepalicalendar.com
DTSTAMP:20260422T173334Z
DTSTART;VALUE=DATE:20240812
DTEND;VALUE=DATE:20240813
SUMMARY:अन्तर्राष्ट्रिय युवा दिवस
DESCRIPTION:अन्तर्राष्ट्रिय युवा दिवस
END:VEVENT
END:VCALENDAR