BEGIN:VCALENDAR
VERSION:2.0
PRODID:-//Nepali Calendar//EN
BEGIN:VEVENT
UID:910eed2b86eae1703b5901c129443721@nepalicalendar.com
DTSTAMP:20260422T173156Z
DTSTART;VALUE=DATE:20240811
DTEND;VALUE=DATE:20240812
SUMMARY:तुलसीदास जयन्ती
DESCRIPTION:तुलसीदास जयन्ती
END:VEVENT
END:VCALENDAR