BEGIN:VCALENDAR
VERSION:2.0
PRODID:-//Nepali Calendar//EN
BEGIN:VEVENT
UID:38055fdb7ea7f6b5bb19e836885a90c5@nepalicalendar.com
DTSTAMP:20260422T173426Z
DTSTART;VALUE=DATE:20240811
DTEND;VALUE=DATE:20240812
SUMMARY:रविसप्तमी व्रत
DESCRIPTION:रविसप्तमी व्रत
END:VEVENT
END:VCALENDAR