BEGIN:VCALENDAR
VERSION:2.0
PRODID:-//Nepali Calendar//EN
BEGIN:VEVENT
UID:e11f4b843b67da501c51a23af6765813@nepalicalendar.com
DTSTAMP:20260422T173124Z
DTSTART;VALUE=DATE:20240810
DTEND;VALUE=DATE:20240811
SUMMARY:कल्की जयन्ती
DESCRIPTION:कल्की जयन्ती
END:VEVENT
END:VCALENDAR