BEGIN:VCALENDAR
VERSION:2.0
PRODID:-//Nepali Calendar//EN
BEGIN:VEVENT
UID:d42a2347208e9f44a9cd6ccfe5b0616d@nepalicalendar.com
DTSTAMP:20260422T173606Z
DTSTART;VALUE=DATE:20240809
DTEND;VALUE=DATE:20240810
SUMMARY:अन्तर्राष्ट्रिय आदिवासी दिवस
DESCRIPTION:अन्तर्राष्ट्रिय आदिवासी दिवस
END:VEVENT
END:VCALENDAR